BEGIN:VCALENDAR
VERSION:2.0
PRODID:-//Profe Valentina - ECPv6.15.20//NONSGML v1.0//EN
CALSCALE:GREGORIAN
METHOD:PUBLISH
X-WR-CALNAME:Profe Valentina
X-ORIGINAL-URL:https://profevalentina.com
X-WR-CALDESC:Events for Profe Valentina
REFRESH-INTERVAL;VALUE=DURATION:PT1H
X-Robots-Tag:noindex
X-PUBLISHED-TTL:PT1H
BEGIN:VTIMEZONE
TZID:America/Chicago
BEGIN:DAYLIGHT
TZOFFSETFROM:-0600
TZOFFSETTO:-0500
TZNAME:CDT
DTSTART:20230312T080000
END:DAYLIGHT
BEGIN:STANDARD
TZOFFSETFROM:-0500
TZOFFSETTO:-0600
TZNAME:CST
DTSTART:20231105T070000
END:STANDARD
BEGIN:DAYLIGHT
TZOFFSETFROM:-0600
TZOFFSETTO:-0500
TZNAME:CDT
DTSTART:20240310T080000
END:DAYLIGHT
BEGIN:STANDARD
TZOFFSETFROM:-0500
TZOFFSETTO:-0600
TZNAME:CST
DTSTART:20241103T070000
END:STANDARD
BEGIN:DAYLIGHT
TZOFFSETFROM:-0600
TZOFFSETTO:-0500
TZNAME:CDT
DTSTART:20250309T080000
END:DAYLIGHT
BEGIN:STANDARD
TZOFFSETFROM:-0500
TZOFFSETTO:-0600
TZNAME:CST
DTSTART:20251102T070000
END:STANDARD
END:VTIMEZONE
BEGIN:VEVENT
DTSTART;TZID=America/Chicago:20240529T180000
DTEND;TZID=America/Chicago:20240529T190000
DTSTAMP:20260425T213831
CREATED:20250502T131046Z
LAST-MODIFIED:20250502T131046Z
UID:3087-1717005600-1717009200@profevalentina.com
SUMMARY:ACTFL: The Power of Playful Teaching
DESCRIPTION:
URL:https://profevalentina.com/event/actfl-the-power-of-playful-teaching/
ATTACH;FMTTYPE=image/png:https://profevalentina.com/wp-content/uploads/2025/05/unnamed.png
END:VEVENT
END:VCALENDAR