BEGIN:VCALENDAR
VERSION:2.0
PRODID:-//Profe Valentina - ECPv6.15.20//NONSGML v1.0//EN
CALSCALE:GREGORIAN
METHOD:PUBLISH
X-WR-CALNAME:Profe Valentina
X-ORIGINAL-URL:https://profevalentina.com
X-WR-CALDESC:Events for Profe Valentina
REFRESH-INTERVAL;VALUE=DURATION:PT1H
X-Robots-Tag:noindex
X-PUBLISHED-TTL:PT1H
BEGIN:VTIMEZONE
TZID:America/Chicago
BEGIN:DAYLIGHT
TZOFFSETFROM:-0600
TZOFFSETTO:-0500
TZNAME:CDT
DTSTART:20230312T080000
END:DAYLIGHT
BEGIN:STANDARD
TZOFFSETFROM:-0500
TZOFFSETTO:-0600
TZNAME:CST
DTSTART:20231105T070000
END:STANDARD
BEGIN:DAYLIGHT
TZOFFSETFROM:-0600
TZOFFSETTO:-0500
TZNAME:CDT
DTSTART:20240310T080000
END:DAYLIGHT
BEGIN:STANDARD
TZOFFSETFROM:-0500
TZOFFSETTO:-0600
TZNAME:CST
DTSTART:20241103T070000
END:STANDARD
BEGIN:DAYLIGHT
TZOFFSETFROM:-0600
TZOFFSETTO:-0500
TZNAME:CDT
DTSTART:20250309T080000
END:DAYLIGHT
BEGIN:STANDARD
TZOFFSETFROM:-0500
TZOFFSETTO:-0600
TZNAME:CST
DTSTART:20251102T070000
END:STANDARD
END:VTIMEZONE
BEGIN:VEVENT
DTSTART;TZID=America/Chicago:20241017T080000
DTEND;TZID=America/Chicago:20241018T170000
DTSTAMP:20260425T104348
CREATED:20250919T180304Z
LAST-MODIFIED:20250919T180304Z
UID:3223-1729152000-1729270800@profevalentina.com
SUMMARY:ICTFL's 2024 Fall Conference
DESCRIPTION:The Purpose Behind Intentional Routines and Classroom Procedures: \nIn this session\, participants will experience how simple\, intentional routines and procedures can help build a strong classroom community and create a low-stress environment in the classroom. These strategies are low-pressure yet high-impact\, setting both teachers and students up for a joyful and sustainable school year. \nParticipants will leave with ready-to-use ideas that work at any level and provide students with daily opportunities to speak\, connect\, and grow their language skills through engaging and collaborative classroom routines.
URL:https://profevalentina.com/event/ictfls-2024-fall-conference/
ATTACH;FMTTYPE=image/png:https://profevalentina.com/wp-content/uploads/2025/09/ICTFL2024-9.png
END:VEVENT
BEGIN:VEVENT
DTSTART;VALUE=DATE:20240717
DTEND;VALUE=DATE:20240718
DTSTAMP:20260425T104348
CREATED:20250502T131330Z
LAST-MODIFIED:20250502T131448Z
UID:3090-1721174400-1721260799@profevalentina.com
SUMMARY:CI SUMMIT: Elementary Lab Teacher
DESCRIPTION:
URL:https://profevalentina.com/event/cisummit-elementary-lab-teacher/
ATTACH;FMTTYPE=image/jpeg:https://profevalentina.com/wp-content/uploads/2025/05/IMG_0777.jpg
END:VEVENT
BEGIN:VEVENT
DTSTART;TZID=America/Chicago:20240529T180000
DTEND;TZID=America/Chicago:20240529T190000
DTSTAMP:20260425T104348
CREATED:20250502T131046Z
LAST-MODIFIED:20250502T131046Z
UID:3087-1717005600-1717009200@profevalentina.com
SUMMARY:ACTFL: The Power of Playful Teaching
DESCRIPTION:
URL:https://profevalentina.com/event/actfl-the-power-of-playful-teaching/
ATTACH;FMTTYPE=image/png:https://profevalentina.com/wp-content/uploads/2025/05/unnamed.png
END:VEVENT
END:VCALENDAR