BEGIN:VCALENDAR
VERSION:2.0
PRODID:-//Profe Valentina - ECPv6.15.20//NONSGML v1.0//EN
CALSCALE:GREGORIAN
METHOD:PUBLISH
X-ORIGINAL-URL:https://profevalentina.com
X-WR-CALDESC:Events for Profe Valentina
REFRESH-INTERVAL;VALUE=DURATION:PT1H
X-Robots-Tag:noindex
X-PUBLISHED-TTL:PT1H
BEGIN:VTIMEZONE
TZID:America/Chicago
BEGIN:DAYLIGHT
TZOFFSETFROM:-0600
TZOFFSETTO:-0500
TZNAME:CDT
DTSTART:20250309T080000
END:DAYLIGHT
BEGIN:STANDARD
TZOFFSETFROM:-0500
TZOFFSETTO:-0600
TZNAME:CST
DTSTART:20251102T070000
END:STANDARD
BEGIN:DAYLIGHT
TZOFFSETFROM:-0600
TZOFFSETTO:-0500
TZNAME:CDT
DTSTART:20260308T080000
END:DAYLIGHT
BEGIN:STANDARD
TZOFFSETFROM:-0500
TZOFFSETTO:-0600
TZNAME:CST
DTSTART:20261101T070000
END:STANDARD
BEGIN:DAYLIGHT
TZOFFSETFROM:-0600
TZOFFSETTO:-0500
TZNAME:CDT
DTSTART:20270314T080000
END:DAYLIGHT
BEGIN:STANDARD
TZOFFSETFROM:-0500
TZOFFSETTO:-0600
TZNAME:CST
DTSTART:20271107T070000
END:STANDARD
END:VTIMEZONE
BEGIN:VEVENT
DTSTART;TZID=America/Chicago:20260314T080000
DTEND;TZID=America/Chicago:20260316T170000
DTSTAMP:20260424T170118
CREATED:20250919T175136Z
LAST-MODIFIED:20250919T175635Z
UID:3220-1773475200-1773680400@profevalentina.com
SUMMARY:Central States Conference
DESCRIPTION:Teach\, Laugh\, Repeat: Creating an Engaging Language Classroom Year-Round: This session provides elementary world language teachers with practical tips to engage and motivate young learners while fostering a positive and joyful classroom environment. Participants will explore simple\, effective strategies rooted in language acquisition and child development to create fun routines\, encourage active participation\, and support a successful and energizing school year. \n 
URL:https://profevalentina.com/event/central-states-conference-2/
ATTACH;FMTTYPE=image/png:https://profevalentina.com/wp-content/uploads/2025/09/Central-states.png
END:VEVENT
END:VCALENDAR